BEGIN:VCALENDAR
VERSION:2.0
PRODID:-//Norwescap - ECPv6.15.18//NONSGML v1.0//EN
CALSCALE:GREGORIAN
METHOD:PUBLISH
X-ORIGINAL-URL:https://norwescap.org
X-WR-CALDESC:Events for Norwescap
REFRESH-INTERVAL;VALUE=DURATION:PT1H
X-Robots-Tag:noindex
X-PUBLISHED-TTL:PT1H
BEGIN:VTIMEZONE
TZID:America/New_York
BEGIN:DAYLIGHT
TZOFFSETFROM:-0500
TZOFFSETTO:-0400
TZNAME:EDT
DTSTART:20230312T070000
END:DAYLIGHT
BEGIN:STANDARD
TZOFFSETFROM:-0400
TZOFFSETTO:-0500
TZNAME:EST
DTSTART:20231105T060000
END:STANDARD
BEGIN:DAYLIGHT
TZOFFSETFROM:-0500
TZOFFSETTO:-0400
TZNAME:EDT
DTSTART:20240310T070000
END:DAYLIGHT
BEGIN:STANDARD
TZOFFSETFROM:-0400
TZOFFSETTO:-0500
TZNAME:EST
DTSTART:20241103T060000
END:STANDARD
BEGIN:DAYLIGHT
TZOFFSETFROM:-0500
TZOFFSETTO:-0400
TZNAME:EDT
DTSTART:20250309T070000
END:DAYLIGHT
BEGIN:STANDARD
TZOFFSETFROM:-0400
TZOFFSETTO:-0500
TZNAME:EST
DTSTART:20251102T060000
END:STANDARD
END:VTIMEZONE
BEGIN:VEVENT
DTSTART;TZID=America/New_York:20240424T180000
DTEND;TZID=America/New_York:20240424T200000
DTSTAMP:20260419T111154
CREATED:20240412T182745Z
LAST-MODIFIED:20240412T182745Z
UID:10000755-1713981600-1713988800@norwescap.org
SUMMARY:PITC: Primary Care
DESCRIPTION:This is the second in the PITC series. It is not required that you attend all. Participants will be able to understand the importance of primary care giving for infants and toddlers and the benefits of this type of care for children from birth to three years old. \nBy the end of this training\, participants will\n1. Understand best practices related to primary caregiving.\n2. Identify the benefits of primary care.\n3. Utilize strategies within the primary care framework to support infants and toddlers learning and development. Level 1-2. \nLogin Here \nRegister: NJCCIS Time ID: 177352
URL:https://norwescap.org/event/pitc-primary-care/
LOCATION:NJ
CATEGORIES:Virtual,Workshop/Educational Event
END:VEVENT
END:VCALENDAR