BEGIN:VCALENDAR
VERSION:2.0
PRODID:-//Norwescap - ECPv6.15.18//NONSGML v1.0//EN
CALSCALE:GREGORIAN
METHOD:PUBLISH
X-WR-CALNAME:Norwescap
X-ORIGINAL-URL:https://norwescap.org
X-WR-CALDESC:Events for Norwescap
REFRESH-INTERVAL;VALUE=DURATION:PT1H
X-Robots-Tag:noindex
X-PUBLISHED-TTL:PT1H
BEGIN:VTIMEZONE
TZID:America/New_York
BEGIN:DAYLIGHT
TZOFFSETFROM:-0500
TZOFFSETTO:-0400
TZNAME:EDT
DTSTART:20230312T070000
END:DAYLIGHT
BEGIN:STANDARD
TZOFFSETFROM:-0400
TZOFFSETTO:-0500
TZNAME:EST
DTSTART:20231105T060000
END:STANDARD
BEGIN:DAYLIGHT
TZOFFSETFROM:-0500
TZOFFSETTO:-0400
TZNAME:EDT
DTSTART:20240310T070000
END:DAYLIGHT
BEGIN:STANDARD
TZOFFSETFROM:-0400
TZOFFSETTO:-0500
TZNAME:EST
DTSTART:20241103T060000
END:STANDARD
BEGIN:DAYLIGHT
TZOFFSETFROM:-0500
TZOFFSETTO:-0400
TZNAME:EDT
DTSTART:20250309T070000
END:DAYLIGHT
BEGIN:STANDARD
TZOFFSETFROM:-0400
TZOFFSETTO:-0500
TZNAME:EST
DTSTART:20251102T060000
END:STANDARD
END:VTIMEZONE
BEGIN:VEVENT
DTSTART;TZID=America/New_York:20240418T084500
DTEND;TZID=America/New_York:20240418T130000
DTSTAMP:20260419T105526
CREATED:20240322T172644Z
LAST-MODIFIED:20240322T181456Z
UID:10000738-1713429900-1713445200@norwescap.org
SUMMARY:File Management (Spanish)
DESCRIPTION:You will learn how to organize and find files\, save them where they belong\, copy and move files\, create folders and much more. \nTo register for the Spanish Classes\, call 908.900.0060 ext. 1502
URL:https://norwescap.org/event/file-management-3/
LOCATION:Iglesia Presbiteriana Nuevas Fronteras\, 170 Watchung Avenue\, North Plainfield\, NJ\, 07060\, United States
CATEGORIES:In-Person,Workshop/Educational Event
END:VEVENT
BEGIN:VEVENT
DTSTART;TZID=America/New_York:20240418T090000
DTEND;TZID=America/New_York:20240418T153000
DTSTAMP:20260419T105526
CREATED:20240221T133759Z
LAST-MODIFIED:20240221T133759Z
UID:10000479-1713430800-1713454200@norwescap.org
SUMMARY:Secrets of Financially Independent Women
DESCRIPTION:Embark on a day of empowerment at our exciting event! Explore crucial topics such as Credit\, Mortgage 101\, Women in Business\, Legal Services\, and master the art of developing a Savings and Spending Plan. Enjoy a lite breakfast and lunch on us. Plus\, grab your chance to win gift cards for Shop Rite and Dunkin Donuts\, along with handy budget planners. Elevate your financial knowledge and secure your financial future – join us! \n\n\n\n\n\n\n\n\n\n\n\n\n\nRSVP for this event by emailing Burgensone@norwescap.org by April 12th
URL:https://norwescap.org/event/secrets-of-financially-independent-women/
LOCATION:Frelinghuysen Arboretum\, 353 Hanover Ave\, Morristown\, NJ\, 07981\, United States
CATEGORIES:Food/Meal Distribution,In-Person,Workshop/Educational Event
END:VEVENT
END:VCALENDAR